BEGIN:VCALENDAR
VERSION:2.0
PRODID:-//Halwyn - ECPv6.15.20//NONSGML v1.0//EN
CALSCALE:GREGORIAN
METHOD:PUBLISH
X-WR-CALNAME:Halwyn
X-ORIGINAL-URL:https://halwyn.co.uk
X-WR-CALDESC:Events for Halwyn
REFRESH-INTERVAL;VALUE=DURATION:PT1H
X-Robots-Tag:noindex
X-PUBLISHED-TTL:PT1H
BEGIN:VTIMEZONE
TZID:Europe/London
BEGIN:DAYLIGHT
TZOFFSETFROM:+0000
TZOFFSETTO:+0100
TZNAME:BST
DTSTART:20250330T010000
END:DAYLIGHT
BEGIN:STANDARD
TZOFFSETFROM:+0100
TZOFFSETTO:+0000
TZNAME:GMT
DTSTART:20251026T010000
END:STANDARD
BEGIN:DAYLIGHT
TZOFFSETFROM:+0000
TZOFFSETTO:+0100
TZNAME:BST
DTSTART:20260329T010000
END:DAYLIGHT
BEGIN:STANDARD
TZOFFSETFROM:+0100
TZOFFSETTO:+0000
TZNAME:GMT
DTSTART:20261025T010000
END:STANDARD
BEGIN:DAYLIGHT
TZOFFSETFROM:+0000
TZOFFSETTO:+0100
TZNAME:BST
DTSTART:20270328T010000
END:DAYLIGHT
BEGIN:STANDARD
TZOFFSETFROM:+0100
TZOFFSETTO:+0000
TZNAME:GMT
DTSTART:20271031T010000
END:STANDARD
END:VTIMEZONE
BEGIN:VEVENT
DTSTART;TZID=Europe/London:20260207T160000
DTEND;TZID=Europe/London:20260207T200000
DTSTAMP:20260420T101752
CREATED:20260120T143333Z
LAST-MODIFIED:20260120T145507Z
UID:10000137-1770480000-1770494400@halwyn.co.uk
SUMMARY:Six Nations live at HALWYN
DESCRIPTION:Pull up a seat (tables are first come\, first served) and make yourself at home for the Six Nations live on the big screen. Everyone welcome\, there’s always a bit of chatter or a cheer to join in with. Golf’s there if you fancy it\, and the atmosphere is already sorted. \nEngland vs Wales — Saturday 7th February 16.40England vs Ireland — Saturday 21st February 14.10 \nLunch service as usual 12-3pm.
URL:https://halwyn.co.uk/event/six-nations-live-at-halwyn/
ATTACH;FMTTYPE=image/png:https://halwyn.co.uk/wp-content/uploads/2026/01/Instagram.png
END:VEVENT
END:VCALENDAR